Workbook
Name aa: '[2]1993'!$A$1:$IV$3,'[2]1993'!$A$1:$A$65536
Name ad: '[3]МТР Газ України'!$B$1
Name as: '[4]МТР Газ України'!$B$1
Name asdf: [5]Inform!$E$6
Name asdfg: [5]Inform!$F$2
Name BuiltIn_Print_Area___1___1: #REF!
Name ClDate: [6]Inform!$E$6
Name ClDate_21: [7]Inform!$E$6
Name ClDate_25: [7]Inform!$E$6
Name ClDate_6: [8]Inform!$E$6
Name CompName: [6]Inform!$F$2
Name CompName_21: [7]Inform!$F$2
Name CompName_25: [7]Inform!$F$2
Name CompName_6: [8]Inform!$F$2
Name CompNameE: [6]Inform!$G$2
Name CompNameE_21: [7]Inform!$G$2
Name CompNameE_25: [7]Inform!$G$2
Name CompNameE_6: [8]Inform!$G$2
Name Cost_Category_National_ID: #REF!
Name Cе511: #REF!
Name d: '[9]МТР Газ України'!$B$4
Name dCPIb: [10]попер_роз!#REF!
Name dPPIb: [10]попер_роз!#REF!
Name ds: '[11]7 Інші витрати'!#REF!
Name Fact_Type_ID: #REF!
Name G: '[12]МТР Газ України'!$B$1
Name ij1sssss: '[13]7 Інші витрати'!#REF!
Name LastItem: [14]Лист1!$A$1
Name Load: '[15]МТР Газ України'!$B$4
Name Load_ID: '[16]МТР Газ України'!$B$4
Name Load_ID_10: '[17]7 Інші витрати'!#REF!
Name Load_ID_11: '[18]МТР Газ України'!$B$4
Name Load_ID_12: '[18]МТР Газ України'!$B$4
Name Load_ID_13: '[18]МТР Газ України'!$B$4
Name Load_ID_14: '[18]МТР Газ України'!$B$4
Name Load_ID_15: '[18]МТР Газ України'!$B$4
Name Load_ID_16: '[18]МТР Газ України'!$B$4
Name Load_ID_17: '[18]МТР Газ України'!$B$4
Name Load_ID_18: '[19]МТР Газ України'!$B$4
Name Load_ID_19: '[20]МТР Газ України'!$B$4
Name Load_ID_20: '[19]МТР Газ України'!$B$4
Name Load_ID_200: '[15]МТР Газ України'!$B$4
Name Load_ID_21: '[21]МТР Газ України'!$B$4
Name Load_ID_23: '[20]МТР Газ України'!$B$4
Name Load_ID_25: '[21]МТР Газ України'!$B$4
Name Load_ID_542: '[22]МТР Газ України'!$B$4
Name Load_ID_6: '[18]МТР Газ України'!$B$4
Name OpDate: [6]Inform!$E$5
Name OpDate_21: [7]Inform!$E$5
Name OpDate_25: [7]Inform!$E$5
Name OpDate_6: [8]Inform!$E$5
Name QR: [23]Inform!$E$5
Name qw: [5]Inform!$E$5
Name qwert: [5]Inform!$G$2
Name qwerty: '[4]МТР Газ України'!$B$4
Name ShowFil: [14]!ShowFil
Name SU_ID: #REF!
Name Time_ID: '[16]МТР Газ України'!$B$1
Name Time_ID_10: '[17]7 Інші витрати'!#REF!
Name Time_ID_11: '[18]МТР Газ України'!$B$1

Sheet Осн. фін. пок.
F1: Додаток 3
F2: до Порядку складання, затвердження
F3: та контролю виконання фінансового плану
F4: суб'єкта господарювання державного сектору економіки
F5: (пункт 11)
G9: Рік | H9: Коди
A10: Підприємство | B10: КП "Благоустрій - Р" | G10: за ЄДРПОУ | H10: 35450670
A11: Організаційно-правова форма | B11: комунальне підприємство | G11: за КОПФГ | H11: 150
A12: Територія | B12: міста районного підпорядкування Рогатинського р-ну | G12: за КОАТУУ | H12: 2624410000
A13: Орган державного управління | G13: за СПОДУ
A14: Галузь | G14: за ЗКГНГ
A15: Вид економічної діяльності | B15: збирання безпечних відходів | G15: за КВЕД | H15: 38.11
A16: Одиниця виміру, тис. грн | F16: Стандарти звітності П(с)БОУ
A17: Форма власності | F17: Стандарти звітності МСФЗ
A18: Середньооблікова кількість штатних працівників | B18: 65
A19: Місцезнаходження | B19: м. Рогатин, вул. Галицька, 102
A20: Телефон
A21: Прізвище та ініціали керівника | B21: Миць В. В.
A23: ЗВІТ
A24: ПРО ВИКОНАННЯ ФІНАНСОВОГО ПЛАНУ ПІДПРИЄМСТВА
A25: за І півріччя 2026 року
A26: (квартал, рік)
A28: Основні фінансові показники
A30: Найменування показника | B30: Код рядка | C30: Факт наростаючим підсумком з початку року | E30: Звітний період (квартал, рік)
C31: минулий рік | D31: поточний рік | E31: план | F31: факт | G31: відхилення, +/– | H31: виконання, %
A32: 1 | B32: 2 | C32: 3 | D32: 4 | E32: 5 | F32: 6 | G32: 7 | H32: 8
A33: І. Формування фінансових результатів
A34: Чистий дохід від реалізації продукції (товарів, робіт, послуг) | B34: 1000 | C34: =SUM('ІІІ. Рух грош. коштів'!C8) -> 13.1 | D34: =SUM('I. Фін результат'!D7) -> 26.7 | E34: =SUM('I. Фін результат'!E7) -> 15 | F34: =D34 -> 26.7 | G34: =F34-E34 -> 11.7 | H34: =(F34/E34)*100 -> 178
A35: Собівартість реалізованої продукції (товарів, робіт, послуг) | B35: 1010 | C35: =SUM('I. Фін результат'!C8) -> -7936.8 | D35: =SUM('I. Фін результат'!D8) -> -8172.3 | E35: =SUM('I. Фін результат'!E8) -> -13267.8 | F35: =D35 -> -8172.3 | G35: =F35-E35 -> 5095.5 | H35: =(F35/E35)*100 -> 61.594989
A36: Валовий прибуток/збиток | B36: 1020 | C36: =SUM(C34:C35) -> -7923.7 | D36: =SUM(D34:D35) -> -8145.6 | E36: =SUM(E34:E35) -> -13252.8 | F36: =SUM(F34:F35) -> -8145.6 | G36: =F36-E36 -> 5107.2 | H36: =(F36/E36)*100 -> 61.463238
A37: Адміністративні витрати, у тому числі: | B37: 1030 | C37: ='I. Фін результат'!C18 -> 0 | D37: ='I. Фін результат'!D18 -> 0 | E37: ='I. Фін результат'!E18 -> 0 | F37: ='I. Фін результат'!F18 -> 0 | G37: =F37-E37 -> 0 | H37: =(F37/E37)*100 -> #DIV/0!
A38: витрати, пов'язані з використанням власних службових автомобілів | B38: 1031 | C38: ='I. Фін результат'!C19 -> ( ) | D38: ='I. Фін результат'!D19 -> ( ) | E38: ='I. Фін результат'!E19 -> ( ) | F38: ='I. Фін результат'!F19 -> ( ) | G38: =F38-E38 -> #VALUE! | H38: =(F38/E38)*100 -> #VALUE!
A39: витрати на оренду службових автомобілів | B39: 1032 | C39: ='I. Фін результат'!C20 -> ( ) | D39: ='I. Фін результат'!D20 -> ( ) | E39: ='I. Фін результат'!E20 -> ( ) | F39: ='I. Фін результат'!F20 -> ( ) | G39: =F39-E39 -> #VALUE! | H39: =(F39/E39)*100 -> #VALUE!
A40: витрати на консалтингові послуги | B40: 1033 | C40: ='I. Фін результат'!C21 -> ( ) | D40: ='I. Фін результат'!D21 -> ( ) | E40: ='I. Фін результат'!E21 -> ( ) | F40: ='I. Фін результат'!F21 -> ( ) | G40: =F40-E40 -> #VALUE! | H40: =(F40/E40)*100 -> #VALUE!
A41: витрати на страхові послуги | B41: 1034 | C41: ='I. Фін результат'!C22 -> ( ) | D41: ='I. Фін результат'!D22 -> ( ) | E41: ='I. Фін результат'!E22 -> ( ) | F41: ='I. Фін результат'!F22 -> ( ) | G41: =F41-E41 -> #VALUE! | H41: =(F41/E41)*100 -> #VALUE!
A42: витрати на аудиторські послуги | B42: 1035 | C42: ='I. Фін результат'!C23 -> ( ) | D42: ='I. Фін результат'!D23 -> ( ) | E42: ='I. Фін результат'!E23 -> ( ) | F42: ='I. Фін результат'!F23 -> ( ) | G42: =F42-E42 -> #VALUE! | H42: =(F42/E42)*100 -> #VALUE!
A43: Витрати на збут | B43: 1060 | C43: ='I. Фін результат'!C41 -> 0 | D43: ='I. Фін результат'!D41 -> 0 | E43: ='I. Фін результат'!E41 -> 0 | F43: ='I. Фін результат'!F41 -> 0 | G43: =F43-E43 -> 0 | H43: =(F43/E43)*100 -> #DIV/0!
A44: Інші операційні доходи, у тому числі: | B44: 1070 | C44: ='I. Фін результат'!C49 -> 9654.4 | D44: ='I. Фін результат'!D49 -> 9542.6 | E44: ='I. Фін результат'!E49 -> 13260 | F44: ='I. Фін результат'!F49 -> 9542.6 | G44: =F44-E44 -> -3717.4 | H44: =(F44/E44)*100 -> 71.965309
A45: курсові різниці | B45: 1071 | C45: ='I. Фін результат'!C50 -> 0 | D45: ='I. Фін результат'!D50 -> 0 | E45: ='I. Фін результат'!E50 -> 0 | F45: ='I. Фін результат'!F50 -> 0 | G45: =F45-E45 -> 0 | H45: =(F45/E45)*100 -> #DIV/0!
A46: нетипові операційні доходи | B46: 1072 | C46: ='I. Фін результат'!C52 -> 0 | D46: ='I. Фін результат'!D52 -> 0 | E46: ='I. Фін результат'!E52 -> 0 | F46: ='I. Фін результат'!F52 -> 0 | G46: =F46-E46 -> 0 | H46: =(F46/E46)*100 -> #DIV/0!
...

Sheet I. Фін результат
A1: І. Формування фінансових результатів
A3: Найменування показника | B3: Код рядка | C3: Факт наростаючим підсумком з початку року | E3: Звітний період (квартал, рік)
C4: минулий рік | D4: поточний рік | E4: план | F4: факт | G4: відхилення, +/– | H4: виконання, % | I4: пояснення та обґрунтування відхилення від запланованого рівня доходів/витрат
A5: 1 | B5: 2 | C5: 3 | D5: 4 | E5: 5 | F5: 6 | G5: 7 | H5: 8 | I5: 9
A6: Доходи і витрати (деталізація)
A7: Чистий дохід від реалізації продукції (товарів, робіт, послуг) | B7: 1000 | C7: =SUM('ІІІ. Рух грош. коштів'!C8) -> 13.1 | D7: =SUM('ІІІ. Рух грош. коштів'!F8) -> 26.7 | E7: =SUM('ІІІ. Рух грош. коштів'!E8) -> 15 | F7: =D7 -> 26.7 | G7: =F7-E7 -> 11.7 | H7: =(F7/E7)*100 -> 178
A8: Собівартість реалізованої продукції (товарів, робіт, послуг) | B8: 1010 | C8: -7936.8 | D8: -8172.3 | E8: =-6633.9+(-6633.9) -> -13267.8 | F8: =D8 -> -8172.3 | G8: =F8-E8 -> 5095.5 | H8: =(F8/E8)*100 -> 61.594989
A9: Витрати на сировину та основні матеріали | B9: 1011 | C9: -2206.72 | D9: =-1645.83 -> -1645.83 | E9: =-2216.24+(-2216.24) -> -4432.48 | F9: =D9 -> -1645.83 | G9: =F9-E9 -> 2786.65 | H9: =(F9/E9)*100 -> 37.131132
A10: Витрати на паливо | B10: 1012 | C10: -486.7 | D10: -615.38 | E10: =-342+(-342) -> -684 | F10: =D10 -> -615.38 | G10: =F10-E10 -> 68.62 | H10: =(F10/E10)*100 -> 89.967836
A11: Витрати на електроенергію | B11: 1013 | C11: -581.95 | D11: -531.39 | E11: =-547.5+(-547.5) -> -1095 | F11: =D11 -> -531.39 | G11: =F11-E11 -> 563.61 | H11: =(F11/E11)*100 -> 48.528767
A12: Витрати на оплату праці | B12: 1014 | C12: -5302.7 | D12: =-SUM('6.1. Інша інфо_1'!I15:K15) -> -5705.8 | E12: =-SUM('6.1. Інша інфо_1'!F15:H15) -> -5784.5 | F12: =D12 -> -5705.8 | G12: =F12-E12 -> 78.7 | H12: =(F12/E12)*100 -> 98.639468
A13: Відрахування на соціальні заходи | B13: 1015 | C13: -1089.57 | D13: =-1154.7 -> -1154.7 | E13: =-636.28+(-636.28) -> -1272.56 | F13: =D13 -> -1154.7 | G13: =F13-E13 -> 117.86 | H13: =(F13/E13)*100 -> 90.738354
A14: Витрати, що здійснюються для підтримання об’єкта в робочому стані (проведення ремонту, технічного огляду, нагляду, обслуговування тощо) | B14: 1016 | C14: ( ) | D14: ( ) | E14: ( ) | F14: ( ) | G14: =F14-E14 -> #VALUE! | H14: =(F14/E14)*100 -> #VALUE!
A15: Амортизація основних засобів і нематеріальних активів | B15: 1017 | G15: =F15-E15 -> 0 | H15: =(F15/E15)*100 -> #DIV/0!
A16: Інші витрати (розшифрувати) | B16: 1018 | G16: =F16-E16 -> 0 | H16: =(F16/E16)*100 -> #DIV/0!
A17: Валовий прибуток (збиток) | B17: 1020 | C17: =SUM(C7,C8) -> -7923.7 | D17: =SUM(D7,D8) -> -8145.6 | E17: =SUM(E7,E8) -> -13252.8 | F17: =D17 -> -8145.6 | G17: =F17-E17 -> 5107.2 | H17: =(F17/E17)*100 -> 61.463238
A18: Адміністративні витрати, у тому числі: | B18: 1030 | C18: =SUM(C19:C38,C40) -> 0 | D18: =SUM(D19:D38,D40) -> 0 | E18: =SUM(E19:E38,E40) -> 0 | F18: =SUM(F19:F38,F40) -> 0 | G18: =F18-E18 -> 0 | H18: =(F18/E18)*100 -> #DIV/0!
A19: витрати, пов'язані з використанням власних службових автомобілів | B19: 1031 | C19: ( ) | D19: ( ) | E19: ( ) | F19: ( ) | G19: =F19-E19 -> #VALUE! | H19: =(F19/E19)*100 -> #VALUE!
A20: витрати на оренду службових автомобілів | B20: 1032 | C20: ( ) | D20: ( ) | E20: ( ) | F20: ( ) | G20: =F20-E20 -> #VALUE! | H20: =(F20/E20)*100 -> #VALUE!
A21: витрати на консалтингові послуги | B21: 1033 | C21: ( ) | D21: ( ) | E21: ( ) | F21: ( ) | G21: =F21-E21 -> #VALUE! | H21: =(F21/E21)*100 -> #VALUE!
A22: витрати на страхові послуги | B22: 1034 | C22: ( ) | D22: ( ) | E22: ( ) | F22: ( ) | G22: =F22-E22 -> #VALUE! | H22: =(F22/E22)*100 -> #VALUE!
A23: витрати на аудиторські послуги | B23: 1035 | C23: ( ) | D23: ( ) | E23: ( ) | F23: ( ) | G23: =F23-E23 -> #VALUE! | H23: =(F23/E23)*100 -> #VALUE!
A24: витрати на службові відрядження | B24: 1036 | C24: ( ) | D24: ( ) | E24: ( ) | F24: ( ) | G24: =F24-E24 -> #VALUE! | H24: =(F24/E24)*100 -> #VALUE!
A25: витрати на зв’язок | B25: 1037 | C25: ( ) | D25: ( ) | E25: ( ) | F25: ( ) | G25: =F25-E25 -> #VALUE! | H25: =(F25/E25)*100 -> #VALUE!
A26: витрати на оплату праці | B26: 1038 | G26: =F26-E26 -> 0 | H26: =(F26/E26)*100 -> #DIV/0!
A27: відрахування на соціальні заходи | B27: 1039 | G27: =F27-E27 -> 0 | H27: =(F27/E27)*100 -> #DIV/0!
A28: амортизація основних засобів і нематеріальних активів загальногосподарського призначення | B28: 1040 | G28: =F28-E28 -> 0 | H28: =(F28/E28)*100 -> #DIV/0!
A29: витрати на операційну оренду основних засобів та роялті, що мають загальногосподарське призначення | B29: 1041 | G29: =F29-E29 -> 0 | H29: =(F29/E29)*100 -> #DIV/0!
A30: витрати на страхування майна загальногосподарського призначення | B30: 1042 | G30: =F30-E30 -> 0 | H30: =(F30/E30)*100 -> #DIV/0!
A31: витрати на страхування загальногосподарського персоналу | B31: 1043 | G31: =F31-E31 -> 0 | H31: =(F31/E31)*100 -> #DIV/0!
A32: організаційно-технічні послуги | B32: 1044 | G32: =F32-E32 -> 0 | H32: =(F32/E32)*100 -> #DIV/0!
A33: консультаційні та інформаційні послуги | B33: 1045 | G33: =F33-E33 -> 0 | H33: =(F33/E33)*100 -> #DIV/0!
A34: юридичні послуги | B34: 1046 | G34: =F34-E34 -> 0 | H34: =(F34/E34)*100 -> #DIV/0!
A35: послуги з оцінки майна | B35: 1047 | G35: =F35-E35 -> 0 | H35: =(F35/E35)*100 -> #DIV/0!
A36: витрати на охорону праці загальногосподарського персоналу | B36: 1048 | G36: =F36-E36 -> 0 | H36: =(F36/E36)*100 -> #DIV/0!
A37: витрати на підвищення кваліфікації та перепідготовку кадрів | B37: 1049 | G37: =F37-E37 -> 0 | H37: =(F37/E37)*100 -> #DIV/0!
A38: витрати на утримання основних фондів, інших необоротних активів загальногосподарського використання, у тому числі: | B38: 1050 | G38: =F38-E38 -> 0 | H38: =(F38/E38)*100 -> #DIV/0!
A39: витрати на поліпшення основних фондів | B39: 1050/1 | G39: =F39-E39 -> 0 | H39: =(F39/E39)*100 -> #DIV/0!
A40: інші адміністративні витрати (розшифрувати) | B40: 1051 | C40: ( ) | D40: ( ) | E40: ( ) | F40: ( ) | G40: =F40-E40 -> #VALUE! | H40: =(F40/E40)*100 -> #VALUE!
A41: Витрати на збут, у тому числі: | B41: 1060 | C41: =SUM(C42:C48) -> 0 | D41: =SUM(D42:D48) -> 0 | E41: =SUM(E42:E48) -> 0 | F41: =SUM(F42:F48) -> 0 | G41: =F41-E41 -> 0 | H41: =(F41/E41)*100 -> #DIV/0!
...

Sheet ІІ. Розр. з бюджетом
A1: IІ. Розрахунки з бюджетом
A3: Найменування показника | B3: Код рядка | C3: Факт наростаючим підсумком з початку року | E3: Звітний період (квартал, рік)
C4: минулий рік | D4: поточний рік | E4: план | F4: факт | G4: відхилення, +/– | H4: виконання, %
A5: 1 | B5: 2 | C5: 3 | D5: 4 | E5: 5 | F5: 6 | G5: 7 | H5: 8
A6: Розподіл чистого прибутку
A7: Залишок нерозподіленого прибутку (непокритого збитку) на початок звітного періоду | B7: 2000 | D7: - | F7: - | G7: =F7-E7 -> #VALUE! | H7: =(F7/E7)*100 -> #VALUE!
A8: Нараховані до сплати відрахування частини чистого прибутку, усього, у тому числі: | B8: 2010 | C8: =SUM(C9:C10) -> 0 | D8: =SUM(D9:D10) -> 0 | E8: =SUM(E9:E10) -> 0 | F8: =SUM(F9:F10) -> 0 | G8: =F8-E8 -> 0 | H8: =(F8/E8)*100 -> #DIV/0!
A9: державними унітарними підприємствами та їх об'єднаннями до державного бюджету | B9: 2011 | C9: ( ) | D9: ( ) | E9: ( ) | F9: ( ) | G9: =F9-E9 -> #VALUE! | H9: =(F9/E9)*100 -> #VALUE!
A10: господарськими товариствами, у статутному капіталі яких більше 50 відсотків акцій (часток, паїв) належать державі, на виплату дивідендів | B10: 2012 | C10: ( ) | D10: ( ) | E10: ( ) | F10: ( ) | G10: =F10-E10 -> #VALUE! | H10: =(F10/E10)*100 -> #VALUE!
A11: у тому числі на державну частку | B11: 2012/1 | C11: ( ) | D11: ( ) | E11: ( ) | F11: ( ) | G11: =F11-E11 -> #VALUE! | H11: =(F11/E11)*100 -> #VALUE!
A12: Перенесено з додаткового капіталу | B12: 2020 | G12: =F12-E12 -> 0 | H12: =(F12/E12)*100 -> #DIV/0!
A13: Розвиток виробництва | B13: 2030 | C13: ( ) | D13: ( ) | E13: ( ) | F13: ( ) | G13: =F13-E13 -> #VALUE! | H13: =(F13/E13)*100 -> #VALUE!
A14: у тому числі за основними видами діяльності за КВЕД | B14: 2031 | C14: ( ) | D14: ( ) | E14: ( ) | F14: ( ) | G14: =F14-E14 -> #VALUE! | H14: =(F14/E14)*100 -> #VALUE!
A15: Резервний фонд | B15: 2040 | C15: ( ) | D15: ( ) | E15: ( ) | F15: ( ) | G15: =F15-E15 -> #VALUE! | H15: =(F15/E15)*100 -> #VALUE!
A16: Інші фонди (розшифрувати) | B16: 2050 | C16: ( ) | D16: ( ) | E16: ( ) | F16: ( ) | G16: =F16-E16 -> #VALUE! | H16: =(F16/E16)*100 -> #VALUE!
A17: Інші цілі (розшифрувати) | B17: 2060 | C17: ( ) | D17: ( ) | E17: ( ) | F17: ( ) | G17: =F17-E17 -> #VALUE! | H17: =(F17/E17)*100 -> #VALUE!
A18: Залишок нерозподіленого прибутку (непокритого збитку) на кінець звітного періоду | B18: 2070 | D18: - | E18: =E7+'I. Фін результат'!E80 -> 0 | F18: - | G18: =F18-E18 -> #VALUE! | H18: =(F18/E18)*100 -> #VALUE!
A19: Сплата податків, зборів та інших обов'язкових платежів
A20: Сплата податків та зборів до Державного бюджету України (податкові платежі), усього, у тому числі: | B20: 2110 | C20: =SUM(C21:C29) -> 0 | D20: =SUM(D21:D29) -> 0 | E20: =SUM(E21:E29) -> 0 | F20: =SUM(F21:F29) -> 0 | G20: =F20-E20 -> 0 | H20: =(F20/E20)*100 -> #DIV/0!
A21: податок на прибуток підприємств | B21: 2111 | G21: =F21-E21 -> 0 | H21: =(F21/E21)*100 -> #DIV/0!
A22: ПДВ, що підлягає сплаті до бюджету за підсумками звітного періоду | B22: 2112 | G22: =F22-E22 -> 0 | H22: =(F22/E22)*100 -> #DIV/0!
A23: ПДВ, що підлягає відшкодуванню з бюджету за підсумками звітного періоду | B23: 2113 | C23: ( ) | D23: ( ) | E23: ( ) | F23: ( ) | G23: =F23-E23 -> #VALUE! | H23: =(F23/E23)*100 -> #VALUE!
A24: акцизний податок | B24: 2114 | G24: =F24-E24 -> 0 | H24: =(F24/E24)*100 -> #DIV/0!
A25: відрахування частини чистого прибутку державними унітарними підприємствами та їх об'єднаннями | B25: 2115 | G25: =F25-E25 -> 0 | H25: =(F25/E25)*100 -> #DIV/0!
A26: рентна плата за транспортування | B26: 2116 | G26: =F26-E26 -> 0 | H26: =(F26/E26)*100 -> #DIV/0!
A27: рентна плата за користування надрами | B27: 2117 | G27: =F27-E27 -> 0 | H27: =(F27/E27)*100 -> #DIV/0!
A28: податок на доходи фізичних осіб | B28: 2118 | G28: =F28-E28 -> 0 | H28: =(F28/E28)*100 -> #DIV/0!
A29: інші податки та збори (розшифрувати) | B29: 2119 | G29: =F29-E29 -> 0 | H29: =(F29/E29)*100 -> #DIV/0!
A30: Сплата податків та зборів до місцевих бюджетів (податкові платежі), усього, у тому числі: | B30: 2120 | C30: =SUM(C31:C34) -> 0 | D30: =SUM(D31:D34) -> 0 | E30: =SUM(E31:E34) -> 0 | F30: =SUM(F31:F34) -> 0 | G30: =F30-E30 -> 0 | H30: =(F30/E30)*100 -> #DIV/0!
A31: податок на доходи фізичних осіб | B31: 2121 | H31: =(F31/E31)*100 -> #DIV/0!
A32: земельний податок | B32: 2122 | H32: =(F32/E32)*100 -> #DIV/0!
A33: орендна плата | B33: 2123 | H33: =(F33/E33)*100 -> #DIV/0!
A34: інші податки та збори (розшифрувати) | B34: 2124 | G34: =F34-E34 -> 0 | H34: =(F34/E34)*100 -> #DIV/0!
A35: Інші податки, збори та платежі на користь держави, усього, у тому числі: | B35: 2130 | C35: =SUM(C36:C39) -> 0 | D35: =SUM(D36:D39) -> 0 | E35: =SUM(E36:E39) -> 0 | F35: =SUM(F36:F39) -> 0 | G35: =F35-E35 -> 0 | H35: =(F35/E35)*100 -> #DIV/0!
A36: відрахування частини чистого прибутку господарськими товариствами, у статутному капіталі яких більше 50 відсотків акцій (часток, паїв) належать державі, на виплату дивідендів на державну частку | B36: 2131 | G36: =F36-E36 -> 0 | H36: =(F36/E36)*100 -> #DIV/0!
A37: митні платежі | B37: 2132 | G37: =F37-E37 -> 0 | H37: =(F37/E37)*100 -> #DIV/0!
A38: єдиний внесок на загальнообов'язкове державне соціальне страхування | B38: 2133 | G38: =F38-E38 -> 0 | H38: =(F38/E38)*100 -> #DIV/0!
A39: інші податки, збори та платежі (розшифрувати) | B39: 2134 | H39: =(F39/E39)*100 -> #DIV/0!
A40: Погашення податкового боргу, усього, у тому числі: | B40: 2140 | C40: =SUM(C41:C42) -> 0 | D40: =SUM(D41:D42) -> 0 | E40: =SUM(E41:E42) -> 0 | F40: =SUM(F41:F42) -> 0 | H40: =(F40/E40)*100 -> #DIV/0!
A41: погашення реструктуризованих та відстрочених сум, що підлягають сплаті в поточному році до бюджетів та державних цільових фондів | B41: 2141 | H41: =(F41/E41)*100 -> #DIV/0!
...

Sheet ІІІ. Рух грош. коштів
A1: ІІІ. Рух грошових коштів (за прямим методом)
A3: Найменування показника | B3: Код рядка | C3: Факт наростаючим підсумком з початку року | E3: Звітний період (квартал, рік)
C4: минулий рік | D4: поточний рік | E4: план | F4: факт | G4: відхилення, +/– | H4: виконання, %
A5: 1 | B5: 2 | C5: 3 | D5: 4 | E5: 5 | F5: 6 | G5: 7 | H5: 8
A6: І. Рух коштів у результаті операційної діяльності
A7: Надходження грошових коштів від операційної діяльності | B7: 3000 | C7: =SUM(C8:C13,C17) -> 9679.9 | D7: =SUM(D8:D13,D17) -> 9663.8 | E7: =SUM(E8:E13,E17) -> 13275 | F7: =SUM(D7) -> 9663.8 | G7: =F7-E7 -> -3611.2 | H7: =(F7/E7)*100 -> 72.796987
A8: Виручка від реалізації продукції (товарів, робіт, послуг) | B8: 3010 | C8: 13.1 | D8: 26.7 | E8: =7.5+7.5 -> 15 | F8: =SUM(D8) -> 26.7 | G8: =F8-E8 -> 11.7 | H8: =(F8/E8)*100 -> 178
A9: Повернення податків і зборів, у тому числі: | B9: 3020 | F9: =SUM(D9) -> 0 | G9: =F9-E9 -> 0 | H9: =(F9/E9)*100 -> #DIV/0!
A10: податку на додану вартість | B10: 3021 | F10: =SUM(D10) -> 0 | G10: =F10-E10 -> 0 | H10: =(F10/E10)*100 -> #DIV/0!
A11: Цільове фінансування | B11: 3030 | C11: 9666.8 | D11: 9542.6 | E11: =6630+6630 -> 13260 | F11: =SUM(D11) -> 9542.6 | G11: =F11-E11 -> -3717.4 | H11: =(F11/E11)*100 -> 71.965309
A12: Надходження авансів від покупців і замовників | B12: 3040 | F12: =SUM(D12) -> 0 | G12: =F12-E12 -> 0 | H12: =(F12/E12)*100 -> #DIV/0!
A13: Отримання коштів за короткостроковими зобов'язаннями, у тому числі: | B13: 3050 | C13: =SUM(C14:C16) -> 0 | D13: =SUM(D14:D16) -> 0 | E13: =SUM(E14:E16) -> 0 | F13: =SUM(D13) -> 0 | G13: =F13-E13 -> 0 | H13: =(F13/E13)*100 -> #DIV/0!
A14: кредити | B14: 3051 | F14: =SUM(D14) -> 0 | G14: =F14-E14 -> 0 | H14: =(F14/E14)*100 -> #DIV/0!
A15: позики | B15: 3052 | F15: =SUM(D15) -> 0 | G15: =F15-E15 -> 0 | H15: =(F15/E15)*100 -> #DIV/0!
A16: облігації | B16: 3053 | F16: =SUM(D16) -> 0 | G16: =F16-E16 -> 0 | H16: =(F16/E16)*100 -> #DIV/0!
A17: Інші надходження (безоплатно отримані) | B17: 3060 | D17: 94.5 | F17: =SUM(D17) -> 94.5 | G17: =F17-E17 -> 94.5 | H17: =(F17/E17)*100 -> #DIV/0!
A18: Видатки грошових коштів від операційної діяльності | B18: 3100 | C18: =SUM(C19:C21,C25,C35,C36) -> -9678.9 | D18: =SUM(D19:D21,D25,D35,D36) -> -9656.9962 | E18: =SUM(E19:E21,E25,E35,E36) -> -13272.476 | F18: =SUM(F19:F21,F25,F35,F36) -> -9656.9962 | G18: =F18-E18 -> 3615.48 | H18: =(F18/E18)*100 -> 72.759567
A19: Розрахунки за продукцію (товари, роботи та послуги) | B19: 3110 | C19: -3286.6 | D19: =-2792.6 -> -2792.6 | E19: =-3105.7+(-3105.6) -> -6211.3 | F19: =SUM(D19) -> -2792.6 | G19: =F19-E19 -> 3418.7 | H19: =(F19/E19)*100 -> 44.959992
A20: Розрахунки з оплати праці | B20: 3120 | C20: -6392.3 | D20: =-SUM('6.1. Інша інфо_1'!I19:K19) -> -6860.4962 | E20: =-SUM('6.1. Інша інфо_1'!F19:H19) -> -7057.0162 | F20: =SUM(D20) -> -6860.4962 | G20: =F20-E20 -> 196.52 | H20: =(F20/E20)*100 -> 97.215254
A21: Повернення коштів за короткостроковими зобов'язаннями, у тому числі: | B21: 3130 | C21: =SUM(C22:C24) -> 0 | D21: =SUM(D22:D24) -> 0 | E21: =SUM(E22:E24) -> 0 | F21: =SUM(F22:F24) -> 0 | G21: =F21-E21 -> 0 | H21: =(F21/E21)*100 -> #DIV/0!
A22: кредити | B22: 3131 | C22: ( ) | D22: ( ) | E22: ( ) | F22: ( ) | G22: =F22-E22 -> #VALUE! | H22: =(F22/E22)*100 -> #VALUE!
A23: позики | B23: 3132 | C23: ( ) | D23: ( ) | E23: ( ) | F23: ( ) | G23: =F23-E23 -> #VALUE! | H23: =(F23/E23)*100 -> #VALUE!
A24: облігації | B24: 3133 | C24: ( ) | D24: ( ) | E24: ( ) | F24: ( ) | G24: =F24-E24 -> #VALUE! | H24: =(F24/E24)*100 -> #VALUE!
A25: Зобов’язання з податків, зборів та інших обов’язкових платежів, у тому числі: | B25: 3140 | C25: =SUM(C26:C31,C34) -> 0 | D25: =SUM(D26:D31,D34) -> 0 | E25: =SUM(E26:E31,E34) -> 0 | F25: =SUM(F26:F31,F34) -> 0 | G25: =F25-E25 -> 0 | H25: =(F25/E25)*100 -> #DIV/0!
A26: податок на прибуток підприємств | B26: 3141 | G26: =F26-E26 -> 0 | H26: =(F26/E26)*100 -> #DIV/0!
A27: податок на додану вартість | B27: 3142 | C27: ( ) | D27: ( ) | F27: ( ) | G27: =F27-E27 -> #VALUE! | H27: =(F27/E27)*100 -> #VALUE!
A28: акцизний податок | B28: 3143 | C28: ( ) | D28: ( ) | E28: ( ) | F28: ( ) | G28: =F28-E28 -> #VALUE! | H28: =(F28/E28)*100 -> #VALUE!
A29: рентна плата | B29: 3144 | C29: ( ) | D29: ( ) | E29: ( ) | F29: ( ) | G29: =F29-E29 -> #VALUE! | H29: =(F29/E29)*100 -> #VALUE!
A30: податок на доходи фізичних осіб | B30: 3145 | C30: ( ) | D30: ( ) | E30: =D30 -> ( ) | F30: =E30 -> ( ) | G30: =F30-E30 -> #VALUE! | H30: =(F30/E30)*100 -> #VALUE!
A31: інші обов’язкові платежі, у тому числі: | B31: 3146 | C31: =SUM(C32,C33) -> 0 | D31: =SUM(D32,D33) -> 0 | E31: =SUM(E32,E33) -> 0 | F31: =SUM(F32,F33) -> 0 | G31: =F31-E31 -> 0 | H31: =(F31/E31)*100 -> #DIV/0!
A32: відрахування частини чистого прибутку державними підприємствами | B32: 3146/1 | C32: ( ) | D32: ( ) | E32: ( ) | F32: ( ) | G32: =F32-E32 -> #VALUE! | H32: =(F32/E32)*100 -> #VALUE!
A33: відрахування частини чистого прибутку до фонду на виплату дивідендів на державну частку господарськими товариствами | B33: 3146/2 | C33: ( ) | D33: ( ) | E33: ( ) | F33: ( ) | G33: =F33-E33 -> #VALUE! | H33: =(F33/E33)*100 -> #VALUE!
A34: інші платежі (екологічний податок) | B34: 3150 | G34: =F34-E34 -> 0 | H34: =(F34/E34)*100 -> #DIV/0!
A35: Повернення коштів до бюджету | B35: 3160 | C35: ( ) | D35: ( ) | E35: ( ) | F35: ( ) | G35: =F35-E35 -> #VALUE! | H35: =(F35/E35)*100 -> #VALUE!
A36: Інші витрати (комісія банку) | B36: 3170 | D36: -3.9 | E36: =-2.08+(-2.08) -> -4.16 | F36: =SUM(D36) -> -3.9 | G36: =F36-E36 -> 0.26 | H36: =(F36/E36)*100 -> 93.75
A37: Чистий рух коштів від операційної діяльності | B37: 3195 | C37: =SUM(C7,C18) -> 1 | D37: =SUM(D7,D18) -> 6.80384 | E37: =SUM(E7,E18) -> 2.52384 | F37: =SUM(F7,F18) -> 6.80384 | G37: =F37-E37 -> 4.28 | H37: =(F37/E37)*100 -> 269.58286
A38: II. Рух коштів у результаті інвестиційної діяльності | G38: =F38-E38 -> 0 | H38: =(F38/E38)*100 -> #DIV/0!
A39: Надходження грошових коштів від інвестиційної діяльності | B39: 3200 | C39: =SUM(C40:C43) -> 0 | D39: =SUM(D40:D43) -> 0 | E39: =SUM(E40:E43) -> 0 | F39: =SUM(F40:F43) -> 0 | G39: =F39-E39 -> 0 | H39: =(F39/E39)*100 -> #DIV/0!
A40: Виручка від реалізації фінансових інвестицій | B40: 3210 | G40: =F40-E40 -> 0 | H40: =(F40/E40)*100 -> #DIV/0!
A41: Виручка від реалізації необоротних активів | B41: 3220 | G41: =F41-E41 -> 0 | H41: =(F41/E41)*100 -> #DIV/0!
...

Sheet IV. Кап. інвестиції
A1: IV. Капітальні інвестиції
A3: Найменування показника | B3: Код рядка | C3: Факт наростаючим підсумком з початку року | E3: Звітний період (квартал, рік)
C4: минулий рік | D4: поточний рік | E4: план | F4: факт | G4: відхилення, +/– | H4: виконання, %
A5: 1 | B5: 2 | C5: 3 | D5: 4 | E5: 5 | F5: 6 | G5: 7 | H5: 8
A6: Капітальні інвестиції, усього, у тому числі: | B6: 4000 | C6: =SUM(C8) -> 0 | D6: =SUM(D8) -> 54950 | E6: =SUM(E8) -> 54950 | F6: =SUM(F8) -> 54950 | G6: =F6-E6 -> 0 | H6: =(F6/E6)*100 -> 100
A7: капітальне будівництво | B7: 4010 | G7: =F7-E7 -> 0 | H7: =(F7/E7)*100 -> #DIV/0!
A8: придбання (виготовлення) основних засобів | B8: 4020 | D8: ='6.2. Інша інфо_2'!AD48 -> 54950 | E8: ='6.2. Інша інфо_2'!Q48 -> 54950 | F8: =SUM(E8) -> 54950 | G8: =F8-E8 -> 0 | H8: =(F8/E8)*100 -> 100
A9: придбання (виготовлення) інших необоротних матеріальних активів | B9: 4030 | G9: =F9-E9 -> 0 | H9: =(F9/E9)*100 -> #DIV/0!
A10: придбання (створення) нематеріальних активів | B10: 4040 | G10: =F10-E10 -> 0 | H10: =(F10/E10)*100 -> #DIV/0!
A11: модернізація, модифікація (добудова, дообладнання, реконструкція) основних засобів | B11: 4050 | G11: =F11-E11 -> 0 | H11: =(F11/E11)*100 -> #DIV/0!
A12: капітальний ремонт | B12: 4060 | G12: =F12-E12 -> 0 | H12: =(F12/E12)*100 -> #DIV/0!
A16: Начальник КП "Благоустрій-Р" | C16: __________________________ | F16: Миць В. В.
A17: (посада) | C17: (підпис) | F17: (ініціали, прізвище)

Sheet  V. Коефіцієнти
A1: V. Коефіцієнтний аналіз
A3: Найменування показника | B3: Код рядка | C3: Оптимальне значення | D3: Факт наростаючим підсумком з початку року | F3: Звітний період (квартал, рік) | H3: Примітки
D4: минулий рік | E4: поточний рік | F4: минулий рік | G4: поточний рік
A5: 1 | B5: 2 | C5: 3 | D5: 4 | E5: 5 | F5: 6 | G5: 7 | H5: 8
A6: Коефіцієнти рентабельності та прибутковості
A7: Валова рентабельність (валовий прибуток, рядок 1020 / чистий дохід від реалізації продукції (товарів, робіт, послуг), рядок 1000) х 100, % | B7: 5000 | C7: Збільшення | D7: -52266.524 | E7: =('Осн. фін. пок.'!D36/'Осн. фін. пок.'!D34)*100 -> -30507.865 | F7: =('Осн. фін. пок.'!E36/'Осн. фін. пок.'!E34)*100 -> -88352 | G7: =('Осн. фін. пок.'!F36/'Осн. фін. пок.'!F34)*100 -> -30507.865
A8: Рентабельність EBITDA (EBITDA, рядок 1310 / чистий дохід від реалізації продукції (товарів, робіт, послуг), рядок 1000) х 100, % | B8: 5010 | C8: Збільшення | D8: =('Осн. фін. пок.'!C52/'Осн. фін. пок.'!C34)*100 -> #VALUE! | E8: =('Осн. фін. пок.'!D52/'Осн. фін. пок.'!D34)*100 -> #VALUE! | F8: =('Осн. фін. пок.'!E52/'Осн. фін. пок.'!E34)*100 -> #VALUE! | G8: =('Осн. фін. пок.'!F52/'Осн. фін. пок.'!F34)*100 -> #VALUE!
A9: Рентабельність активів (чистий фінансовий результат, рядок 1200 / вартість активів, рядок 6020) х 100, % | B9: 5020 | C9: Збільшення | D9: =('Осн. фін. пок.'!C67/'Осн. фін. пок.'!C143)*100 -> #DIV/0! | E9: =('Осн. фін. пок.'!D67/'Осн. фін. пок.'!D143)*100 -> #DIV/0! | F9: =('Осн. фін. пок.'!E67/'Осн. фін. пок.'!E143)*100 -> #DIV/0! | G9: =('Осн. фін. пок.'!F67/'Осн. фін. пок.'!F143)*100 -> #VALUE! | H9: Характеризує ефективність використання активів підприємства
A10: Рентабельність власного капіталу (чистий фінансовий результат, рядок 1200 / власний капітал, рядок 6080) х 100, % | B10: 5030 | C10: Збільшення | D10: =('Осн. фін. пок.'!C67/'Осн. фін. пок.'!C149)*100 -> #DIV/0! | E10: =('Осн. фін. пок.'!D67/'Осн. фін. пок.'!D149)*100 -> #DIV/0! | F10: =('Осн. фін. пок.'!E67/'Осн. фін. пок.'!E149)*100 -> #DIV/0! | G10: =('Осн. фін. пок.'!F67/'Осн. фін. пок.'!F149)*100 -> #VALUE!
A11: Рентабельність діяльності (чистий фінансовий результат, рядок 1200 / чистий дохід від реалізації продукції (товарів, робіт, послуг), рядок 1000) х 100, % | B11: 5040 | C11: Збільшення | D11: 9.4420601 | E11: =('Осн. фін. пок.'!D67/'Осн. фін. пок.'!D34)*100 -> 25.468165 | F11: =('Осн. фін. пок.'!E67/'Осн. фін. пок.'!E34)*100 -> 16.666667 | G11: =('Осн. фін. пок.'!F67/'Осн. фін. пок.'!F34)*100 -> 25.468165 | H11: Характеризує ефективність господарської діяльності підприємства
A12: Коефіцієнти фінансової стійкості та ліквідності
A13: Коефіцієнт відношення боргу до EBITDA (довгострокові зобов'язання, рядок 6030 + поточні зобов'язання, рядок 6040) / EBITDA, рядок 1310 | B13: 5100 | D13: =('Осн. фін. пок.'!C144+'Осн. фін. пок.'!C145)/'Осн. фін. пок.'!C52 -> #VALUE! | E13: =('Осн. фін. пок.'!D144+'Осн. фін. пок.'!D145)/'Осн. фін. пок.'!D52 -> #VALUE! | F13: =('Осн. фін. пок.'!E144+'Осн. фін. пок.'!E145)/'Осн. фін. пок.'!E52 -> #VALUE! | G13: =('Осн. фін. пок.'!F144+'Осн. фін. пок.'!F145)/'Осн. фін. пок.'!F52 -> #VALUE!
A14: Коефіцієнт фінансової стійкості (власний капітал, рядок 6080 / (довгострокові зобов'язання, рядок 6030 + поточні зобов'язання, рядок 6040)) | B14: 5110 | C14: > 1 | D14: ='Осн. фін. пок.'!C149/('Осн. фін. пок.'!C144+'Осн. фін. пок.'!C145) -> #DIV/0! | E14: ='Осн. фін. пок.'!D149/('Осн. фін. пок.'!D144+'Осн. фін. пок.'!D145) -> #DIV/0! | F14: ='Осн. фін. пок.'!E149/('Осн. фін. пок.'!E144+'Осн. фін. пок.'!E145) -> #DIV/0! | G14: ='Осн. фін. пок.'!F149/('Осн. фін. пок.'!F144+'Осн. фін. пок.'!F145) -> #VALUE! | H14: Характеризує співвідношення власних та позикових коштів і залежність підприємства від зовнішніх фінансових джерел
A15: Коефіцієнт поточної ліквідності (покриття) (оборотні активи, рядок 6010 / поточні зобов'язання, рядок 6040) | B15: 5120 | C15: > 1 | D15: ='Осн. фін. пок.'!C141/'Осн. фін. пок.'!C145 -> #DIV/0! | E15: ='Осн. фін. пок.'!D141/'Осн. фін. пок.'!D145 -> #DIV/0! | F15: ='Осн. фін. пок.'!E141/'Осн. фін. пок.'!E145 -> #DIV/0! | G15: ='Осн. фін. пок.'!F141/'Осн. фін. пок.'!F145 -> #VALUE! | H15: Показує достатність ресурсів підприємства, які може бути використано для погашення його поточних зобов'язань. Нормативним значенням для цього показника є > 1–1,5
A16: Аналіз капітальних інвестицій
A17: Коефіцієнт відношення капітальних інвестицій до амортизації (капітальні інвестиції, рядок 4000 / амортизація, рядок 1430) | B17: 5200 | D17: ='Осн. фін. пок.'!C118/'Осн. фін. пок.'!C79 -> #DIV/0! | E17: ='Осн. фін. пок.'!D118/'Осн. фін. пок.'!D79 -> #DIV/0! | F17: ='Осн. фін. пок.'!E118/'Осн. фін. пок.'!E79 -> #DIV/0! | G17: ='Осн. фін. пок.'!F118/'Осн. фін. пок.'!F79 -> #DIV/0!
A18: Коефіцієнт відношення капітальних інвестицій до чистого доходу від реалізації продукції (товарів, робіт, послуг) (капітальні інвестиції, рядок 4000 / чистий дохід від реалізації продукції (товарів, робіт, послуг), рядок 1000) | B18: 5210 | D18: 24.48309 | E18: ='Осн. фін. пок.'!D118/'Осн. фін. пок.'!D34 -> 2058.0524 | F18: ='Осн. фін. пок.'!E118/'Осн. фін. пок.'!E34 -> 3663.3333 | G18: ='Осн. фін. пок.'!F118/'Осн. фін. пок.'!F34 -> 2058.0524
A19: Коефіцієнт зносу основних засобів (сума зносу, рядок 6003 / первісна вартість основних засобів, рядок 6002) | B19: 5220 | C19: Зменшення | D19: #VALUE! | E19: ='Осн. фін. пок.'!D140/'Осн. фін. пок.'!D139 -> 0.528428 | F19: ='Осн. фін. пок.'!E140/'Осн. фін. пок.'!E139 -> 0.528428 | G19: ='Осн. фін. пок.'!F140/'Осн. фін. пок.'!F139 -> #VALUE! | H19: Характеризує інвестиційну політику підприємства
A20: Ковенанти/обмежувальні коефіцієнти
A21: Інші коефіцієнти/ковенанти, якщо такі передбачені умовами кредитних договорів, із зазначенням банку, валюти та суми зобов'язання на дату останньої звітності, строку погашення. У графі "Оптимальне значення" вказати граничне значення коефіцієнта | B21: 5300
A27: Начальник КП "Благоустрій - Р" | C27: __________________________ | E27: Миць В. В.
A28: (посада) | C28: (підпис) | E28: (ініціали, прізвище)

Sheet 6.1. Інша інфо_1
A1: Інформація
A2: до фінансового плану за І півріччя 2026 рік
A3: КП "Благоустрій - Р"
A4: (найменування підприємства)
A5: 1. Дані про підприємство, персонал та витрати на оплату праці
A7: Загальна інформація про підприємство (резюме)
A9: Найменування показника | C9: Факт відповідного періоду минулого року | F9: План звітного періоду | I9: Факт звітного періоду | L9: Відхилення, +/– (Факт звітного періоду / План звітного періоду) | N9: Виконання, % (Факт звітного періоду / План звітного періоду)
A10: 1 | C10: 2 | F10: 3 | I10: 4 | L10: 5 | N10: 6
A11: Середня кількість працівників (штатних працівників, зовнішніх сумісників та працівників, що працюють за цивільно-правовими договорами), у тому числі: | C11: =C12+C13+C14 -> 66 | F11: =F12+F13+F14 -> 81 | I11: =I12+I13+I14 -> 65 | L11: =I11-F11 -> -16 | N11: =(I11/F11)*100 -> 80.246914
A12: директор | C12: 1 | F12: 1 | I12: =SUM(F12) -> 1 | L12: =I12-F12 -> 0 | N12: =(I12/F12)*100 -> 100
A13: адміністративно-управлінський персонал | C13: 11 | F13: 11 | I13: =SUM(F13) -> 11 | L13: =I13-F13 -> 0 | N13: =(I13/F13)*100 -> 100
A14: працівники | C14: 54 | F14: 69 | I14: 53 | L14: =I14-F14 -> -16 | N14: =(I14/F14)*100 -> 76.811594
A15: Фонд оплати праці, тис. грн, у тому числі: | C15: =C16+C17+C18 -> 5302.7 | F15: =F16+F17+F18 -> 5784.5 | I15: =I16+I17+I18 -> 5705.8 | L15: =I15-F15 -> -78.7 | N15: =(I15/F15)*100 -> 98.639468
A16: директор | C16: 177.2 | F16: =88.9+88.7 -> 177.6 | I16: =SUM(F16) -> 177.6 | L16: =I16-F16 -> 0 | N16: =(I16/F16)*100 -> 100
A17: адміністративно-управлінський персонал | C17: 1284.4 | F17: =683.4+648.1 -> 1331.5 | I17: =SUM(F17) -> 1331.5 | L17: =I17-F17 -> 0 | N17: =(I17/F17)*100 -> 100
A18: працівники | C18: 3841.1 | F18: 4275.4 | I18: 4196.7 | L18: =I18-F18 -> -78.7 | N18: =(I18/F18)*100 -> 98.159237
A19: Витрати на оплату праці, тис. грн, у тому числі: | C19: =C20+C21+C22 -> 6392.27 | F19: =F20+F21+F22 -> 7057.0162 | I19: =SUM(I20:K22) -> 6860.4962 | L19: =I19-F19 -> -196.52 | N19: =(I19/F19)*100 -> 97.215254
A20: директор | C20: 192.1 | F20: =F16+F16*8.41% -> 192.53616 | I20: =F20 -> 192.53616 | L20: =I20-F20 -> 0 | N20: =(I20/F20)*100 -> 100
A21: адміністративно-управлінський персонал | C21: 1566.97 | F21: =F17+F17*22% -> 1624.43 | I21: =F21 -> 1624.43 | L21: =I21-F21 -> 0 | N21: =(I21/F21)*100 -> 100
A22: працівники | C22: 4633.2 | F22: 5240.05 | I22: 5043.53 | L22: =I22-F22 -> -196.52 | N22: =(I22/F22)*100 -> 96.249654
A23: Середньомісячні витрати на оплату праці одного працівника (грн), усього, у тому числі: | C23: 16142.1 | F23: =(F19/F11)/6*1000 -> 14520.609 | I23: =(I19/I11)/6*1000 -> 17591.016 | L23: =I23-F23 -> 3070.4064 | N23: =(I23/F23)*100 -> 121.14516
A24: директор | C24: 32017.09 | F24: =(F20/F12)/6*1000 -> 32089.36 | I24: =F24 -> 32089.36 | L24: =I24-F24 -> 0 | N24: =(I24/F24)*100 -> 100
A25: адміністративно-управлінський персонал | C25: 23741.94 | F25: =(F21/F13)/6*1000 -> 24612.576 | I25: =F25 -> 24612.576 | L25: =I25-F25 -> 0 | N25: =(I25/F25)*100 -> 100
A26: працівники | C26: 14300 | F26: =(F22/F14)/6*1000 -> 12657.126 | I26: =(I22/I14)/6*1000 -> 15860.157 | L26: =I26-F26 -> 3203.0316 | N26: =(I26/F26)*100 -> 125.30615
A28: У разі збільшення витрат на оплату праці у звітному періоді порівняно із запланованими та фактичними витратами відповідного періоду минулого року обов'язково надаються обґрунтування.
A30: 2. Перелік підприємств, які включені до консолідованого (зведеного) фінансового плану
A32: Код за ЄДРПОУ | B32: Найменування підприємства | F32: Вид діяльності
A33: 1 | B33: 2 | F33: 3
A40: 3. Інформація про бізнес підприємства (код рядка 1000 фінансового плану)
A42: Найменування видів діяльності за КВЕД | D42: План | G42: Факт | J42: Відхилення, +/– | M42: Виконання, %
D43: чистий дохід від реалізації продукції (товарів, робіт, послуг), тис. грн | E43: кількість продукції/ наданих послуг, одиниця виміру | F43: ціна одиниці (вартість продукції/ наданих послуг), грн | G43: чистий дохід від реалізації продукції (товарів, робіт, послуг), тис. грн | H43: кількість продукції/ наданих послуг, одиниця виміру | I43: ціна одиниці (вартість продукції/ наданих послуг), грн | J43: чистий дохід від реалізації продукції (товарів, робіт, послуг), тис. грн | K43: кількість продукції/ наданих послуг, одиниця виміру | L43: ціна одиниці (вартість продукції/ наданих послуг), грн | M43: чистий дохід від реалізації продукції (товарів, робіт, послуг) | N43: кількість продукції/ наданих послуг | O43: зміна ціни одиниці (вартості продукції/ наданих послуг)
A44: 1 | D44: 2 | E44: 3 | F44: 4 | G44: 5 | H44: 6 | I44: 7 | J44: 8 | K44: 9 | L44: 10 | M44: 11 | N44: 12 | O44: 13
J45: =G45-D45 -> 0 | K45: =H45-E45 -> 0 | L45: =I45-F45 -> 0 | M45: =(G45/D45)*100 -> #DIV/0! | N45: =(H45/E45)*100 -> #DIV/0! | O45: =(I45/F45)*100 -> #DIV/0!
J46: =G46-D46 -> 0 | K46: =H46-E46 -> 0 | L46: =I46-F46 -> 0 | M46: =(G46/D46)*100 -> #DIV/0! | N46: =(H46/E46)*100 -> #DIV/0! | O46: =(I46/F46)*100 -> #DIV/0!
J47: =G47-D47 -> 0 | K47: =H47-E47 -> 0 | L47: =I47-F47 -> 0 | M47: =(G47/D47)*100 -> #DIV/0! | N47: =(H47/E47)*100 -> #DIV/0! | O47: =(I47/F47)*100 -> #DIV/0!
J48: =G48-D48 -> 0 | K48: =H48-E48 -> 0 | L48: =I48-F48 -> 0 | M48: =(G48/D48)*100 -> #DIV/0! | N48: =(H48/E48)*100 -> #DIV/0! | O48: =(I48/F48)*100 -> #DIV/0!
A49: Усього | D49: =SUM(D45:D48) -> 0 | G49: =SUM(G45:G48) -> 0
A51: 4. Діючі фінансові зобов'язання підприємства
A53: Найменування банку | B53: Вид кредитного продукту та цільове призначення | D53: Сума, валюта за договорами | F53: Процентна ставка | H53: Дата видачі / погашення (графік) | K53: Заборгованість на останню дату | M53: Забезпечення
A54: 1 | B54: 2 | D54: 3 | F54: 4 | H54: 5 | K54: 6 | M54: 7
...

Sheet 6.2. Інша інфо_2
C1: 6. Витрати, пов'язані з використанням власних службових автомобілів (у складі адміністративних витрат, рядок 1031)
A3: № з/п | B3: Марка | D3: Рік придбання | G3: Мета використання | R3: Витрати, усього | AA3: Відхилення, +/– (факт звітного періоду / план звітного періоду) | AD3: Виконання, % (факт звітного періоду / план звітного періоду)
R4: факт відповідного періоду минулого року | U4: план звітного періоду | X4: факт звітного періоду
A5: 1 | B5: 2 | D5: 3 | G5: 4 | R5: 5 | U5: 6 | X5: 7 | AA5: 8 | AD5: 9
AA6: =X6-U6 -> 0 | AD6: =(X6/U6)*100 -> #DIV/0!
AA7: =X7-U7 -> 0 | AD7: =(X7/U7)*100 -> #DIV/0!
AA8: =X8-U8 -> 0 | AD8: =(X8/U8)*100 -> #DIV/0!
AA9: =X9-U9 -> 0 | AD9: =(X9/U9)*100 -> #DIV/0!
A10: Усього | R10: =SUM(R6:R9) -> 0 | U10: =SUM(U6:U9) -> 0 | X10: =SUM(X6:X9) -> 0 | AA10: =X10-U10 -> 0 | AD10: =(X10/U10)*100 -> #DIV/0!
C13: 7. Витрати на оренду службових автомобілів (у складі адміністративних витрат, рядок 1032)
A15: № з/п | B15: Договір | D15: Марка | H15: Мета використання | P15: Дата початку оренди | R15: Витрати, усього | AA15: Відхилення, +/– (факт звітного періоду / план звітного періоду) | AD15: Виконання, % (факт звітного періоду / план звітного періоду)
R16: факт відповідного періоду минулого року | U16: план звітного періоду | X16: факт звітного періоду
A18: 1 | B18: 2 | D18: 3 | H18: 4 | P18: 5 | R18: 6 | U18: 7 | X18: 8 | AA18: 9 | AD18: 10
AA19: =X19-U19 -> 0 | AD19: =(X19/U19)*100 -> #DIV/0!
AA20: =X20-U20 -> 0 | AD20: =(X20/U20)*100 -> #DIV/0!
AA21: =X21-U21 -> 0 | AD21: =(X21/U21)*100 -> #DIV/0!
AA22: =X22-U22 -> 0 | AD22: =(X22/U22)*100 -> #DIV/0!
A23: Усього | R23: =SUM(R19:R22) -> 0 | U23: =SUM(U19:U22) -> 0 | X23: =SUM(X19:X22) -> 0 | AA23: =X23-U23 -> 0 | AD23: =(X23/U23)*100 -> #DIV/0!
C26: 8. Джерела капітальних інвестицій
AD27: тис. грн (без ПДВ)
A28: № з/п | B28: Найменування об’єкта | M28: Залучення кредитних коштів | Q28: Бюджетне фінансування | U28: Власні кошти (розшифрувати) | Y28: Інші джерела (розшифрувати) | AC28: Усього
M29: план | N29: факт | O29: відхилення, +/– | P29: виконання, % | Q29: план | R29: факт | S29: відхилення, +/– | T29: виконання, % | U29: план | V29: факт | W29: відхилення, +/– | X29: виконання, % | Y29: план | Z29: факт | AA29: відхилення, +/– | AB29: виконання, % | AC29: план | AD29: факт | AE29: відхилення, +/– | AF29: виконання, %
A31: 1 | B31: 2 | M31: 3 | N31: 4 | O31: 5 | P31: 6 | Q31: 7 | R31: 8 | S31: 9 | T31: 10 | U31: 11 | V31: 12 | W31: 13 | X31: 14 | Y31: 15 | Z31: 16 | AA31: 17 | AB31: 18 | AC31: 19 | AD31: 20 | AE31: 21 | AF31: 22
A32: 1 | B32: Перфоратор Bosch Professional GBN 2-28 | O32: =N32-M32 -> 0 | P32: =N32/M32*100 -> #DIV/0! | Q32: 9850 | R32: =SUM(Q32) -> 9850 | S32: =R32-Q32 -> 0 | T32: =R32/Q32*100 -> 100 | W32: =V32-U32 -> 0 | X32: =V32/U32*100 -> #DIV/0! | AA32: =Z32-Y32 -> 0 | AB32: =Z32/Y32*100 -> #DIV/0! | AC32: =SUM(M32,Q32,U32,Y32) -> 9850 | AD32: =SUM(N32,R32,V32,Z32) -> 9850 | AE32: =AD32-AC32 -> 0 | AF32: =AD32/AC32*100 -> 100
A33: 2 | B33: Бензопила REBINER CS-45 | O33: =N33-M33 -> 0 | P33: =N33/M33*100 -> #DIV/0! | Q33: 4600 | R33: =SUM(Q33) -> 4600 | S33: =R33-Q33 -> 0 | T33: =R33/Q33*100 -> 100 | W33: =V33-U33 -> 0 | X33: =V33/U33*100 -> #DIV/0! | AA33: =Z33-Y33 -> 0 | AB33: =Z33/Y33*100 -> #DIV/0! | AC33: =SUM(M33,Q33,U33,Y33) -> 4600 | AD33: =SUM(N33,R33,V33,Z33) -> 4600 | AE33: =AD33-AC33 -> 0 | AF33: =AD33/AC33*100 -> 100
A34: 3 | B34: Тример бензиновий REBINER GT -4800 | O34: =N34-M34 -> 0 | P34: =N34/M34*100 -> #DIV/0! | Q34: 4650 | R34: =SUM(Q34) -> 4650 | S34: =R34-Q34 -> 0 | T34: =R34/Q34*100 -> 100 | W34: =V34-U34 -> 0 | X34: =V34/U34*100 -> #DIV/0! | AA34: =Z34-Y34 -> 0 | AB34: =Z34/Y34*100 -> #DIV/0! | AC34: =SUM(M34,Q34,U34,Y34) -> 4650 | AD34: =SUM(N34,R34,V34,Z34) -> 4650 | AE34: =AD34-AC34 -> 0 | AF34: =AD34/AC34*100 -> 100
A35: 4 | B35: Тример бензиновий REBINER GT -4800 | O35: =N35-M35 -> 0 | P35: =N35/M35*100 -> #DIV/0! | Q35: 4650 | R35: =SUM(Q35) -> 4650 | S35: =R35-Q35 -> 0 | T35: =R35/Q35*100 -> 100 | W35: =V35-U35 -> 0 | X35: =V35/U35*100 -> #DIV/0! | AA35: =Z35-Y35 -> 0 | AB35: =Z35/Y35*100 -> #DIV/0! | AC35: =SUM(M35,Q35,U35,Y35) -> 4650 | AD35: =SUM(N35,R35,V35,Z35) -> 4650 | AE35: =AD35-AC35 -> 0 | AF35: =AD35/AC35*100 -> 100
A36: 5 | B36: Тример бензиновий REBINER GT -4800 | O36: =N36-M36 -> 0 | P36: =N36/M36*100 -> #DIV/0! | Q36: 4650 | R36: =SUM(Q36) -> 4650 | S36: =R36-Q36 -> 0 | T36: =R36/Q36*100 -> 100 | W36: =V36-U36 -> 0 | X36: =V36/U36*100 -> #DIV/0! | AA36: =Z36-Y36 -> 0 | AB36: =Z36/Y36*100 -> #DIV/0! | AC36: =SUM(M36,Q36,U36,Y36) -> 4650 | AD36: =SUM(N36,R36,V36,Z36) -> 4650 | AE36: =AD36-AC36 -> 0 | AF36: =AD36/AC36*100 -> 100
A37: 6 | B37: Тример бензиновий REBINER GT -4800 | O37: =N37-M37 -> 0 | P37: =N37/M37*100 -> #DIV/0! | Q37: 4650 | R37: =SUM(Q37) -> 4650 | S37: =R37-Q37 -> 0 | T37: =R37/Q37*100 -> 100 | W37: =V37-U37 -> 0 | X37: =V37/U37*100 -> #DIV/0! | AA37: =Z37-Y37 -> 0 | AB37: =Z37/Y37*100 -> #DIV/0! | AC37: =SUM(M37,Q37,U37,Y37) -> 4650 | AD37: =SUM(N37,R37,V37,Z37) -> 4650 | AE37: =AD37-AC37 -> 0 | AF37: =AD37/AC37*100 -> 100
A38: 7 | B38: Набір акумуляторних інструментів (кутова шліфмашинка - 1шт., шуруповерт - 1 шт., перфоратор - 1 шт. гайковерт - 1 шт.) | O38: =N38-M38 -> 0 | P38: =N38/M38*100 -> #DIV/0! | Q38: 9500 | R38: =SUM(Q38) -> 9500 | S38: =R38-Q38 -> 0 | T38: =R38/Q38*100 -> 100 | W38: =V38-U38 -> 0 | X38: =V38/U38*100 -> #DIV/0! | AA38: =Z38-Y38 -> 0 | AB38: =Z38/Y38*100 -> #DIV/0! | AC38: =SUM(M38,Q38,U38,Y38) -> 9500 | AD38: =SUM(N38,R38,V38,Z38) -> 9500 | AE38: =AD38-AC38 -> 0 | AF38: =AD38/AC38*100 -> 100
A39: 8 | B39: Драбина трьохсекційна 12 сходин | O39: =N39-M39 -> 0 | P39: =N39/M39*100 -> #DIV/0! | Q39: 10500 | R39: =SUM(Q39) -> 10500 | S39: =R39-Q39 -> 0 | T39: =R39/Q39*100 -> 100 | W39: =V39-U39 -> 0 | X39: =V39/U39*100 -> #DIV/0! | AA39: =Z39-Y39 -> 0 | AB39: =Z39/Y39*100 -> #DIV/0! | AC39: =SUM(M39,Q39,U39,Y39) -> 10500 | AD39: =SUM(N39,R39,V39,Z39) -> 10500 | AE39: =AD39-AC39 -> 0 | AF39: =AD39/AC39*100 -> 100
A40: 9 | B40: Драбина 8 сходин | O40: =N40-M40 -> 0 | P40: =N40/M40*100 -> #DIV/0! | Q40: 1900 | R40: =SUM(Q40) -> 1900 | S40: =R40-Q40 -> 0 | T40: =R40/Q40*100 -> 100 | W40: =V40-U40 -> 0 | X40: =V40/U40*100 -> #DIV/0! | AA40: =Z40-Y40 -> 0 | AB40: =Z40/Y40*100 -> #DIV/0! | AC40: =SUM(M40,Q40,U40,Y40) -> 1900 | AD40: =SUM(N40,R40,V40,Z40) -> 1900 | AE40: =AD40-AC40 -> 0 | AF40: =AD40/AC40*100 -> 100
A41: 10 | O41: =N41-M41 -> 0 | P41: =N41/M41*100 -> #DIV/0! | S41: =R41-Q41 -> 0 | T41: =R41/Q41*100 -> #DIV/0! | W41: =V41-U41 -> 0 | X41: =V41/U41*100 -> #DIV/0! | AA41: =Z41-Y41 -> 0 | AB41: =Z41/Y41*100 -> #DIV/0! | AC41: =SUM(M41,Q41,U41,Y41) -> 0 | AD41: =SUM(N41,R41,V41,Z41) -> 0 | AE41: =AD41-AC41 -> 0 | AF41: =AD41/AC41*100 -> #DIV/0!
A42: 11 | O42: =N42-M42 -> 0 | P42: =N42/M42*100 -> #DIV/0! | S42: =R42-Q42 -> 0 | T42: =R42/Q42*100 -> #DIV/0! | W42: =V42-U42 -> 0 | X42: =V42/U42*100 -> #DIV/0! | AA42: =Z42-Y42 -> 0 | AB42: =Z42/Y42*100 -> #DIV/0! | AC42: =SUM(M42,Q42,U42,Y42) -> 0 | AD42: =SUM(N42,R42,V42,Z42) -> 0 | AE42: =AD42-AC42 -> 0 | AF42: =AD42/AC42*100 -> #DIV/0!
A43: 12 | O43: =N43-M43 -> 0 | P43: =N43/M43*100 -> #DIV/0! | S43: =R43-Q43 -> 0 | T43: =R43/Q43*100 -> #DIV/0! | W43: =V43-U43 -> 0 | X43: =V43/U43*100 -> #DIV/0! | AA43: =Z43-Y43 -> 0 | AB43: =Z43/Y43*100 -> #DIV/0! | AC43: =SUM(M43,Q43,U43,Y43) -> 0 | AD43: =SUM(N43,R43,V43,Z43) -> 0 | AE43: =AD43-AC43 -> 0 | AF43: =AD43/AC43*100 -> #DIV/0!
A44: 13 | O44: =N44-M44 -> 0 | P44: =N44/M44*100 -> #DIV/0! | S44: =R44-Q44 -> 0 | T44: =R44/Q44*100 -> #DIV/0! | W44: =V44-U44 -> 0 | X44: =V44/U44*100 -> #DIV/0! | AA44: =Z44-Y44 -> 0 | AB44: =Z44/Y44*100 -> #DIV/0! | AC44: =SUM(M44,Q44,U44,Y44) -> 0 | AD44: =SUM(N44,R44,V44,Z44) -> 0 | AE44: =AD44-AC44 -> 0 | AF44: =AD44/AC44*100 -> #DIV/0!
A45: 14 | O45: =N45-M45 -> 0 | P45: =N45/M45*100 -> #DIV/0! | S45: =R45-Q45 -> 0 | T45: =R45/Q45*100 -> #DIV/0! | W45: =V45-U45 -> 0 | X45: =V45/U45*100 -> #DIV/0! | AA45: =Z45-Y45 -> 0 | AB45: =Z45/Y45*100 -> #DIV/0! | AC45: =SUM(M45,Q45,U45,Y45) -> 0 | AD45: =SUM(N45,R45,V45,Z45) -> 0 | AE45: =AD45-AC45 -> 0 | AF45: =AD45/AC45*100 -> #DIV/0!
A46: 15 | P46: =N46/M46*100 -> #DIV/0! | S46: =R46-Q46 -> 0 | T46: =R46/Q46*100 -> #DIV/0! | AC46: =SUM(M46,Q46,U46,Y46) -> 0 | AD46: =SUM(N46,R46,V46,Z46) -> 0 | AE46: =AD46-AC46 -> 0 | AF46: =AD46/AC46*100 -> #DIV/0!
A47: 16 | P47: =N47/M47*100 -> #DIV/0! | S47: =R47-Q47 -> 0 | T47: =R47/Q47*100 -> #DIV/0! | AC47: =SUM(M47,Q47,U47,Y47) -> 0 | AD47: =SUM(N47,R47,V47,Z47) -> 0 | AE47: =AD47-AC47 -> 0 | AF47: =AD47/AC47*100 -> #DIV/0!
A48: Усього | M48: =SUM(M32:M45) -> 0 | N48: =SUM(N32:N45) -> 0 | O48: =SUM(O32:O45) -> 0 | P48: =N48/M48*100 -> #DIV/0! | Q48: =SUM(Q32:Q47) -> 54950 | R48: =SUM(R32:R47) -> 54950 | S48: =SUM(S32:S47) -> 0 | T48: =R48/Q48*100 -> 100 | U48: =SUM(U32:U45) -> 0 | V48: =SUM(V32:V45) -> 0 | W48: =SUM(W32:W45) -> 0 | X48: =V48/U48*100 -> #DIV/0! | Y48: =SUM(Y32:Y45) -> 0 | Z48: =SUM(Z32:Z45) -> 0 | AA48: =SUM(AA32:AA45) -> 0 | AB48: =Z48/Y48*100 -> #DIV/0! | AC48: =SUM(AC32:AC47) -> 54950 | AD48: =SUM(AD32:AD47) -> 54950 | AE48: =SUM(AE32:AE47) -> 0 | AF48: =AD48/AC48*100 -> 100
...
